BEGIN:VCALENDAR
VERSION:2.0
PRODID:-//Squarespace Inc/Squarespace 6//v6//EN
BEGIN:VEVENT
UID:58f84d0ae4fcb55832fb60dc@squarespace.com
DTSTAMP:20170420T063657Z
DTSTART:20170613T220000Z
DTEND:20170615T050000Z
SUMMARY:Inside Out: Building your self identity and personal brand
END:VEVENT
END:VCALENDAR
