BEGIN:VCALENDAR
VERSION:2.0
PRODID:-//Squarespace Inc/Squarespace 6//v6//EN
BEGIN:VEVENT
UID:5bbed823e2c483b569899754@squarespace.com
DTSTAMP:20181011T051229Z
DTSTART:20190308T050000Z
DTEND:20190313T060000Z
SUMMARY:Emotional intelligence in practice
GEO:-37.801406;174.871794
LOCATION:Waoku Lodge\, Raglan\, Waikato\, New Zealand
END:VEVENT
END:VCALENDAR
